BEGIN:VCALENDAR
VERSION:2.0
PRODID:-//nebraskaffaalumni.org//NONSGML kigkonsult.se iCalcreator 2.30.10/
 /
CALSCALE:GREGORIAN
METHOD:PUBLISH
UID:5b8c7de9-3a78-4f0f-b1b3-b64dbfc71605
X-WR-CALDESC:
X-WR-RELCALID:ff571c658e8d8d01d462f37060937403
X-WR-TIMEZONE:America/Chicago
BEGIN:VTIMEZONE
TZID:America/Chicago
BEGIN:STANDARD
TZNAME:CST
DTSTART:20251102T020000
TZOFFSETFROM:-0500
TZOFFSETTO:-0600
RDATE:20261101T020000
END:STANDARD
BEGIN:DAYLIGHT
TZNAME:CDT
DTSTART:20250309T020000
TZOFFSETFROM:-0600
TZOFFSETTO:-0500
RDATE:20260308T020000
RDATE:20270314T020000
END:DAYLIGHT
END:VTIMEZONE
BEGIN:VEVENT
UID:21c3a11e-49e7-49cb-a7b2-fdd7ed677d38
DTSTAMP:20260423T095644Z
DESCRIPTION:
DTSTART;TZID=America/Chicago:20260116T050000
DTEND;TZID=America/Chicago:20260117T050001
LOCATION:Valentine\, Nebraska
SUMMARY:2026 Nebraska FFA Alumni & Supporters Convention
END:VEVENT
END:VCALENDAR
